BEGIN:VCALENDAR
VERSION:2.0
PRODID:icalendar-ruby
CALSCALE:GREGORIAN
X-WR-TIMEZONE:Europe/Helsinki
BEGIN:VTIMEZONE
TZID:Europe/Helsinki
BEGIN:DAYLIGHT
DTSTART:20260329T040000
TZOFFSETFROM:+0200
TZOFFSETTO:+0300
RRULE:FREQ=YEARLY;BYDAY=-1SU;BYMONTH=3
TZNAME:EEST
END:DAYLIGHT
BEGIN:STANDARD
DTSTART:20261025T030000
TZOFFSETFROM:+0300
TZOFFSETTO:+0200
RRULE:FREQ=YEARLY;BYDAY=-1SU;BYMONTH=10
TZNAME:EET
END:STANDARD
END:VTIMEZONE
BEGIN:VEVENT
DTSTAMP:20260420T163604
UID:cetus.myclub.fi-10270410
DTSTART;TZID=Europe/Helsinki:20260419T103000
DTEND;TZID=Europe/Helsinki:20260419T110000
DESCRIPTION:Korvauskerta on tarkoitettu vauva-/perheuinti asiakkaille\, jot
 ka haluavat korvata poisjääneen uintikerran.\nThe replacement session is
  intended for baby/family swimming customers who need to make up for a mis
 sed swimming session.\n\nhttps://cetus.myclub.fi/flow/events/10270410
LOCATION:Matinkylän uimahalli\, Tynnyritie 6\, 02230 Espoo\, Suomi
SEQUENCE:0
SUMMARY:Korvausuinnit: Pelastusliivikokeilu Vauvauinnin korvauskerta
URL;VALUE=URI:https://cetus.myclub.fi/flow/events/10270410
END:VEVENT
END:VCALENDAR
