BEGIN:VCALENDAR
VERSION:2.0
PRODID:icalendar-ruby
CALSCALE:GREGORIAN
X-WR-TIMEZONE:Europe/Helsinki
BEGIN:VTIMEZONE
TZID:Europe/Helsinki
BEGIN:DAYLIGHT
DTSTART:20260329T040000
TZOFFSETFROM:+0200
TZOFFSETTO:+0300
RRULE:FREQ=YEARLY;BYDAY=-1SU;BYMONTH=3
TZNAME:EEST
END:DAYLIGHT
BEGIN:STANDARD
DTSTART:20261025T030000
TZOFFSETFROM:+0300
TZOFFSETTO:+0200
RRULE:FREQ=YEARLY;BYDAY=-1SU;BYMONTH=10
TZNAME:EET
END:STANDARD
END:VTIMEZONE
BEGIN:VEVENT
DTSTAMP:20260423T181403
UID:cetus.myclub.fi-10276604
DTSTART;TZID=Europe/Helsinki:20260428T164500
DTEND;TZID=Europe/Helsinki:20260428T171500
DESCRIPTION:Tältä tunnilta voit hakea esimerkiksi vinkkejä oman uintitek
 niikkasi parantamiseen. Voit varata tunnin myös esimerkiksi lapsellesi ui
 mataitotason arvioimiseksi ja sen myötä sopivan uintikurssin löytämise
 ksi. Räätälöimme tunnin toiveidesi mukaiseksi. Kirjaa tuntia koskevat 
 toiveesi lisätietokenttään. HUOM! Tunnin ohjaa vesiliikunnanohjaaja\, e
 i kilpauintivalmentaja! Opetuskieli: suomi tai englanti.\nTällä tunnilla
  harjoittelet syvässä altaassa\, joten sinun tulee osata uida yhtäjakso
 isesti vähintään 25 metriä osallistuessasi tunnille. Ohjaaja opastaa s
 inua altaan reunalta käsin.\nOhjaaja tulee sinua vastaan sovittuna ajanko
 htana hallin uinninvalvomon eteen\, jollei toisin sovita.\nTärkeää muis
 tettavaa yksityistunnille: https://www.cetus.fi/kurssit/yksityistunnit/\nK
 aikissa kysymyksissä voit olla yhteydessä osoitteeseen yksityistunnit@ce
 tus.fi\nTervetuloa oppimaan uutta!\n \nThrough these swimming lessons one 
 can seek tips and pointers to improve one’s own swimming technique. One 
 can also reserve a lesson for their child in order to determine which cour
 se the child could participate in. The lesson is tailored to meet the cust
 omer’s requirements. Write down your wishes in the assigned field. PLEAS
 E NOTE! The instructor of this lesson is a sports instructor\, not a compe
 titive swim coach! Language of instruction Finnish or English.\nThe lesson
  is arranged in the deep pool\, which requires the participant to be able 
 to swim at least 25 meters. The instructor is not in the pool with the par
 ticipant.\nThe instructor will meet the participant by the lifeguard’s o
 ffice at the affirmed time.\nImportant to remember about the private lesso
 ns: https://www.cetus.fi/en/kurssit/private-lessons/\nIf you have any ques
 tions\, please contact yksityistunnit@cetus.fi\nWelcome!\n\nhttps://cetus.
 myclub.fi/flow/events/10276604
LOCATION:Leppävaaran Uimahalli\, Veräjäpellonkatu 15\, 02650 Espoo
SEQUENCE:0
SUMMARY:Yksityistunnit Tiina N.: Yksityistunti Leppävaara (uimataitovaatim
 us väh. 25m) Opetuskieli: suomi tai englanti
URL;VALUE=URI:https://cetus.myclub.fi/flow/events/10276604
END:VEVENT
END:VCALENDAR
